BEGIN:VCALENDAR
VERSION:2.0
PRODID:-//Norfolk County Rifle Range - ECPv6.15.20//NONSGML v1.0//EN
CALSCALE:GREGORIAN
METHOD:PUBLISH
X-WR-CALNAME:Norfolk County Rifle Range
X-ORIGINAL-URL:https://www.ncrr.net
X-WR-CALDESC:Events for Norfolk County Rifle Range
REFRESH-INTERVAL;VALUE=DURATION:PT1H
X-Robots-Tag:noindex
X-PUBLISHED-TTL:PT1H
BEGIN:VTIMEZONE
TZID:America/New_York
BEGIN:DAYLIGHT
TZOFFSETFROM:-0500
TZOFFSETTO:-0400
TZNAME:EDT
DTSTART:20250309T070000
END:DAYLIGHT
BEGIN:STANDARD
TZOFFSETFROM:-0400
TZOFFSETTO:-0500
TZNAME:EST
DTSTART:20251102T060000
END:STANDARD
BEGIN:DAYLIGHT
TZOFFSETFROM:-0500
TZOFFSETTO:-0400
TZNAME:EDT
DTSTART:20260308T070000
END:DAYLIGHT
BEGIN:STANDARD
TZOFFSETFROM:-0400
TZOFFSETTO:-0500
TZNAME:EST
DTSTART:20261101T060000
END:STANDARD
BEGIN:DAYLIGHT
TZOFFSETFROM:-0500
TZOFFSETTO:-0400
TZNAME:EDT
DTSTART:20270314T070000
END:DAYLIGHT
BEGIN:STANDARD
TZOFFSETFROM:-0400
TZOFFSETTO:-0500
TZNAME:EST
DTSTART:20271107T060000
END:STANDARD
END:VTIMEZONE
BEGIN:VEVENT
DTSTART;TZID=America/New_York:20261003T070000
DTEND;TZID=America/New_York:20261003T140000
DTSTAMP:20260422T171218
CREATED:20250104T175642Z
LAST-MODIFIED:20251123T125518Z
UID:10001742-1791010800-1791036000@www.ncrr.net
SUMMARY:Tactical Shotgun
DESCRIPTION:Online registration. Match fee is due at check-in. \nSet up 7am\nSign up 8am\nShooting starts 8:30\n4-5 stages\nApprox 100 – 125 rounds\nNO SLUGS – NO BUCKSHOT\n7 1/2 or smaller bird shot only NO High Brass
URL:https://www.ncrr.net/event/tactical-shotgun/2026-10-03/
LOCATION:NCRR outdoor shotgun range
CATEGORIES:Range Open
ORGANIZER;CN="Jim Jones":MAILTO:tacticalshotgun@ncrr.net
END:VEVENT
BEGIN:VEVENT
DTSTART;TZID=America/New_York:20261017T070000
DTEND;TZID=America/New_York:20261017T140000
DTSTAMP:20260422T171218
CREATED:20260103T180411Z
LAST-MODIFIED:20260314T222618Z
UID:10001763-1792220400-1792245600@www.ncrr.net
SUMMARY:Tactical Shotgun
DESCRIPTION:Online registration. Match fee is due at check-in. \nSet up 7am\nSign up 8am\nShooting starts 8:30\n4-5 stages\nApprox 100 – 125 rounds\nNO SLUGS – NO BUCKSHOT\n7 1/2 or smaller bird shot only NO High Brass
URL:https://www.ncrr.net/event/tactical-shotgun-2/2026-10-17/
LOCATION:NCRR outdoor shotgun range
CATEGORIES:Range Open
ORGANIZER;CN="Jim Jones":MAILTO:tacticalshotgun@ncrr.net
END:VEVENT
BEGIN:VEVENT
DTSTART;TZID=America/New_York:20261107T070000
DTEND;TZID=America/New_York:20261107T140000
DTSTAMP:20260422T171218
CREATED:20250104T175642Z
LAST-MODIFIED:20251123T125518Z
UID:10001743-1794034800-1794060000@www.ncrr.net
SUMMARY:Tactical Shotgun
DESCRIPTION:Online registration. Match fee is due at check-in. \nSet up 7am\nSign up 8am\nShooting starts 8:30\n4-5 stages\nApprox 100 – 125 rounds\nNO SLUGS – NO BUCKSHOT\n7 1/2 or smaller bird shot only NO High Brass
URL:https://www.ncrr.net/event/tactical-shotgun/2026-11-07/
LOCATION:NCRR outdoor shotgun range
CATEGORIES:Range Open
ORGANIZER;CN="Jim Jones":MAILTO:tacticalshotgun@ncrr.net
END:VEVENT
BEGIN:VEVENT
DTSTART;TZID=America/New_York:20261121T070000
DTEND;TZID=America/New_York:20261121T140000
DTSTAMP:20260422T171218
CREATED:20260103T180411Z
LAST-MODIFIED:20260314T222618Z
UID:10001764-1795244400-1795269600@www.ncrr.net
SUMMARY:Tactical Shotgun
DESCRIPTION:Online registration. Match fee is due at check-in. \nSet up 7am\nSign up 8am\nShooting starts 8:30\n4-5 stages\nApprox 100 – 125 rounds\nNO SLUGS – NO BUCKSHOT\n7 1/2 or smaller bird shot only NO High Brass
URL:https://www.ncrr.net/event/tactical-shotgun-2/2026-11-21/
LOCATION:NCRR outdoor shotgun range
CATEGORIES:Range Open
ORGANIZER;CN="Jim Jones":MAILTO:tacticalshotgun@ncrr.net
END:VEVENT
BEGIN:VEVENT
DTSTART;TZID=America/New_York:20261205T070000
DTEND;TZID=America/New_York:20261205T140000
DTSTAMP:20260422T171218
CREATED:20250104T175642Z
LAST-MODIFIED:20251123T125518Z
UID:10001744-1796454000-1796479200@www.ncrr.net
SUMMARY:Tactical Shotgun
DESCRIPTION:Online registration. Match fee is due at check-in. \nSet up 7am\nSign up 8am\nShooting starts 8:30\n4-5 stages\nApprox 100 – 125 rounds\nNO SLUGS – NO BUCKSHOT\n7 1/2 or smaller bird shot only NO High Brass
URL:https://www.ncrr.net/event/tactical-shotgun/2026-12-05/
LOCATION:NCRR outdoor shotgun range
CATEGORIES:Range Open
ORGANIZER;CN="Jim Jones":MAILTO:tacticalshotgun@ncrr.net
END:VEVENT
BEGIN:VEVENT
DTSTART;TZID=America/New_York:20261219T070000
DTEND;TZID=America/New_York:20261219T140000
DTSTAMP:20260422T171218
CREATED:20260103T180411Z
LAST-MODIFIED:20260314T222618Z
UID:10001765-1797663600-1797688800@www.ncrr.net
SUMMARY:Tactical Shotgun
DESCRIPTION:Online registration. Match fee is due at check-in. \nSet up 7am\nSign up 8am\nShooting starts 8:30\n4-5 stages\nApprox 100 – 125 rounds\nNO SLUGS – NO BUCKSHOT\n7 1/2 or smaller bird shot only NO High Brass
URL:https://www.ncrr.net/event/tactical-shotgun-2/2026-12-19/
LOCATION:NCRR outdoor shotgun range
CATEGORIES:Range Open
ORGANIZER;CN="Jim Jones":MAILTO:tacticalshotgun@ncrr.net
END:VEVENT
END:VCALENDAR