BEGIN:VCALENDAR
VERSION:2.0
PRODID:-//Norfolk County Rifle Range - ECPv6.15.20//NONSGML v1.0//EN
CALSCALE:GREGORIAN
METHOD:PUBLISH
X-WR-CALNAME:Norfolk County Rifle Range
X-ORIGINAL-URL:https://www.ncrr.net
X-WR-CALDESC:Events for Norfolk County Rifle Range
REFRESH-INTERVAL;VALUE=DURATION:PT1H
X-Robots-Tag:noindex
X-PUBLISHED-TTL:PT1H
BEGIN:VTIMEZONE
TZID:America/New_York
BEGIN:DAYLIGHT
TZOFFSETFROM:-0500
TZOFFSETTO:-0400
TZNAME:EDT
DTSTART:20240310T070000
END:DAYLIGHT
BEGIN:STANDARD
TZOFFSETFROM:-0400
TZOFFSETTO:-0500
TZNAME:EST
DTSTART:20241103T060000
END:STANDARD
BEGIN:DAYLIGHT
TZOFFSETFROM:-0500
TZOFFSETTO:-0400
TZNAME:EDT
DTSTART:20250309T070000
END:DAYLIGHT
BEGIN:STANDARD
TZOFFSETFROM:-0400
TZOFFSETTO:-0500
TZNAME:EST
DTSTART:20251102T060000
END:STANDARD
BEGIN:DAYLIGHT
TZOFFSETFROM:-0500
TZOFFSETTO:-0400
TZNAME:EDT
DTSTART:20260308T070000
END:DAYLIGHT
BEGIN:STANDARD
TZOFFSETFROM:-0400
TZOFFSETTO:-0500
TZNAME:EST
DTSTART:20261101T060000
END:STANDARD
END:VTIMEZONE
BEGIN:VEVENT
DTSTART;TZID=America/New_York:20251018T070000
DTEND;TZID=America/New_York:20251018T140000
DTSTAMP:20260423T075401
CREATED:20260103T180411Z
LAST-MODIFIED:20260314T222618Z
UID:10001751-1760770800-1760796000@www.ncrr.net
SUMMARY:Tactical Shotgun
DESCRIPTION:Online registration. Match fee is due at check-in. \nSet up 7am\nSign up 8am\nShooting starts 8:30\n4-5 stages\nApprox 100 – 125 rounds\nNO SLUGS – NO BUCKSHOT\n7 1/2 or smaller bird shot only NO High Brass
URL:https://www.ncrr.net/event/tactical-shotgun-2/2025-10-18/
LOCATION:NCRR outdoor shotgun range
CATEGORIES:Range Open
ORGANIZER;CN="Jim Jones":MAILTO:tacticalshotgun@ncrr.net
END:VEVENT
BEGIN:VEVENT
DTSTART;TZID=America/New_York:20251016T183000
DTEND;TZID=America/New_York:20251016T203000
DTSTAMP:20260423T075401
CREATED:20250104T174334Z
LAST-MODIFIED:20251109T125140Z
UID:10001687-1760639400-1760646600@www.ncrr.net
SUMMARY:Archery: poker shoot
DESCRIPTION:All ages welcome! Equipment will also be available to use. No sights allowed.\nAmazon gift card prizes and an arrow cash shot at the end.
URL:https://www.ncrr.net/event/archery-indoor-basic-2025-10-16/2025-10-16/
LOCATION:NCRR indoor range
CATEGORIES:Range Closed
ORGANIZER;CN="Neil Arter":MAILTO:archery@ncrr.net
END:VEVENT
BEGIN:VEVENT
DTSTART;VALUE=DATE:20251016
DTEND;VALUE=DATE:20251017
DTSTAMP:20260423T075402
CREATED:20250104T172734Z
LAST-MODIFIED:20251123T131258Z
UID:10001545-1760572800-1760659199@www.ncrr.net
SUMMARY:building cleaning
DESCRIPTION:Except when being cleaned\, which takes roughly half hour\, pistol range is open.
URL:https://www.ncrr.net/event/building-cleaning/2025-10-16/
CATEGORIES:Range Partially Open
END:VEVENT
BEGIN:VEVENT
DTSTART;TZID=America/New_York:20251015T160000
DTEND;TZID=America/New_York:20251015T200000
DTSTAMP:20260423T075402
CREATED:20250104T170535Z
LAST-MODIFIED:20251123T130310Z
UID:10001487-1760544000-1760558400@www.ncrr.net
SUMMARY:Rimfire: rifle
DESCRIPTION:Welcome to Rimfire at NCRR. \nThe start and end times are 4pm until 8pm\, last sign up at 7:30pm. \nRifle Matches will be shot a little differently.  The shooting point for the Rifles will be in the shooting booths. \nAll scoring and shooting will be done the same as usual. \nFor more information see:  https://www.ncrr.net/programs/rimfire/ \nWe may have to make minor modifications to these procedures as we proceed\, but hopefully everything will go smoothly.  So please come join us and get back to shooting and having some safe fun. \nPrices:\n$10 Non-members\n$5 Members\n$5 Re-shoots
URL:https://www.ncrr.net/event/rimfire-rifle/2025-10-15/
LOCATION:NCRR indoor range
CATEGORIES:Range Closed
ORGANIZER;CN="Jake Planinsek":MAILTO:rimfire@ncrr.net
END:VEVENT
BEGIN:VEVENT
DTSTART;TZID=America/New_York:20251015T100000
DTEND;TZID=America/New_York:20251015T120000
DTSTAMP:20260423T075402
CREATED:20250104T164031Z
LAST-MODIFIED:20250928T123208Z
UID:10001404-1760522400-1760529600@www.ncrr.net
SUMMARY:Bullseye AM
DESCRIPTION:The Bullseye League is open to anyone interested. See Bullseye Pistol for more details. \nCost is $60 for each season.
URL:https://www.ncrr.net/event/bullseye-am-2025-01-22/2025-10-15/
LOCATION:NCRR indoor range
CATEGORIES:Range Closed
ORGANIZER;CN="Ken McKinna":MAILTO:bullseye@ncrr.net
END:VEVENT
BEGIN:VEVENT
DTSTART;TZID=America/New_York:20251014T183000
DTEND;TZID=America/New_York:20251014T213000
DTSTAMP:20260423T075402
CREATED:20250104T155437Z
LAST-MODIFIED:20250104T155437Z
UID:10001160-1760466600-1760477400@www.ncrr.net
SUMMARY:Trap: Recreational
DESCRIPTION:$5 per round per adult\n$3 per round per Junior under 18
URL:https://www.ncrr.net/event/trap-rec-tuesday/2025-10-14/
LOCATION:NCRR outdoor shotgun range
CATEGORIES:Range Open
ORGANIZER;CN="Clay Floyd - Trap":MAILTO:shotgun@ncrr.net
END:VEVENT
BEGIN:VEVENT
DTSTART;TZID=America/New_York:20251014T163000
DTEND;TZID=America/New_York:20251014T210000
DTSTAMP:20260423T075402
CREATED:20250104T163636Z
LAST-MODIFIED:20250928T122812Z
UID:10001364-1760459400-1760475600@www.ncrr.net
SUMMARY:Bullseye PM
DESCRIPTION:The Bullseye League is open to anyone interested. See Bullseye Pistol for more details. \nCost is $60 for each season.
URL:https://www.ncrr.net/event/bullseye-pm/2025-10-14/
LOCATION:NCRR indoor range
CATEGORIES:Range Closed
ORGANIZER;CN="Ken McKinna":MAILTO:bullseye@ncrr.net
END:VEVENT
BEGIN:VEVENT
DTSTART;TZID=America/New_York:20251013T170000
DTEND;TZID=America/New_York:20251013T200000
DTSTAMP:20260423T075402
CREATED:20250104T162918Z
LAST-MODIFIED:20251123T130829Z
UID:10001300-1760374800-1760385600@www.ncrr.net
SUMMARY:Juniors
DESCRIPTION:Basic Description: The Juniors program is a youth shooting education program. The focus is Olympic style competition in air rifle\, small bore rifle and air pistol. \nAttendance: It is open to youth generally 12-19 years old\, but it is really determined by physical and mental maturity. Typically we have a waiting list but you are encouraged to contact us to see if we have openings. In addition\, we attempt to at least allow an interested youth to observe and participate in one night just to allow them the opportunity to see what it is all about (if this interests you\, please contact us first so we can arrange a time). \nEquipment: NCRR provides all equipment necessary to get started. Eventually most youth will obtain their own shooting equipment but still borrow the club’s guns. \nCoaches: NCRR provides NRA certified coaches and Range Safety Officers to work with the youth. \nStart/End Times: There are 2 relays of practice time 5:30-6:30 & 6:30-8:00. \nFor more information\, click here.
URL:https://www.ncrr.net/event/juniors/2025-10-13/
LOCATION:NCRR indoor range
CATEGORIES:Range Closed
ORGANIZER;CN="Lynn Wheeless":MAILTO:juniors@ncrr.net
END:VEVENT
BEGIN:VEVENT
DTSTART;TZID=America/New_York:20251012T130000
DTEND;TZID=America/New_York:20251012T160000
DTSTAMP:20260423T075402
CREATED:20140530T045002Z
LAST-MODIFIED:20250104T155206Z
UID:10001056-1760274000-1760284800@www.ncrr.net
SUMMARY:Trap: Recreational
DESCRIPTION:$5 per round per adult\n$3 per round per Junior under 18
URL:https://www.ncrr.net/event/trap-rec-sunday/2025-10-12/
LOCATION:NCRR outdoor shotgun range
CATEGORIES:Range Open
ORGANIZER;CN="Clay Floyd - Trap":MAILTO:shotgun@ncrr.net
END:VEVENT
BEGIN:VEVENT
DTSTART;TZID=America/New_York:20251011T123000
DTEND;TZID=America/New_York:20251011T170000
DTSTAMP:20260423T075402
CREATED:20250820T000536Z
LAST-MODIFIED:20251216T124948Z
UID:10001932-1760185800-1760202000@www.ncrr.net
SUMMARY:Trap: Recreational
DESCRIPTION:$5 per round per adult\n$3 per round per Junior under 18
URL:https://www.ncrr.net/event/trap-2-4/2025-10-11/
LOCATION:NCRR outdoor shotgun range
CATEGORIES:Range Open
ORGANIZER;CN="Clay Floyd - Trap":MAILTO:shotgun@ncrr.net
END:VEVENT
BEGIN:VEVENT
DTSTART;TZID=America/New_York:20251011T093000
DTEND;TZID=America/New_York:20251011T123000
DTSTAMP:20260423T075402
CREATED:20250104T180007Z
LAST-MODIFIED:20260206T143822Z
UID:10001808-1760175000-1760185800@www.ncrr.net
SUMMARY:Archery: JOAD
DESCRIPTION:
URL:https://www.ncrr.net/event/archery-joad/2025-10-11/
LOCATION:NCRR indoor range
CATEGORIES:Range Closed
ORGANIZER;CN="Ed Emmendorfer":MAILTO:archery@ncrr.net
END:VEVENT
BEGIN:VEVENT
DTSTART;TZID=America/New_York:20251009T183000
DTEND;TZID=America/New_York:20251009T203000
DTSTAMP:20260423T075402
CREATED:20250104T174015Z
LAST-MODIFIED:20260113T133406Z
UID:10001641-1760034600-1760041800@www.ncrr.net
SUMMARY:Archery: league
DESCRIPTION:Two rounds of 3 Spot (compound) or 80cm (recurve) \n$10 for non-members\n$5 for members\nBONUS SHOOT: Progressive CD shoot\, $2 per arrow. A clean center shot\, no touching\, wins the pot.
URL:https://www.ncrr.net/event/archery-league/2025-10-09/
LOCATION:NCRR indoor range
CATEGORIES:Range Closed
ORGANIZER;CN="Neil Arter":MAILTO:archery@ncrr.net
END:VEVENT
BEGIN:VEVENT
DTSTART;VALUE=DATE:20251009
DTEND;VALUE=DATE:20251010
DTSTAMP:20260423T075402
CREATED:20250104T172734Z
LAST-MODIFIED:20251123T131258Z
UID:10001544-1759968000-1760054399@www.ncrr.net
SUMMARY:building cleaning
DESCRIPTION:Except when being cleaned\, which takes roughly half hour\, pistol range is open.
URL:https://www.ncrr.net/event/building-cleaning/2025-10-09/
CATEGORIES:Range Partially Open
END:VEVENT
BEGIN:VEVENT
DTSTART;TZID=America/New_York:20251008T100000
DTEND;TZID=America/New_York:20251008T120000
DTSTAMP:20260423T075402
CREATED:20250104T164031Z
LAST-MODIFIED:20250928T123208Z
UID:10001403-1759917600-1759924800@www.ncrr.net
SUMMARY:Bullseye AM
DESCRIPTION:The Bullseye League is open to anyone interested. See Bullseye Pistol for more details. \nCost is $60 for each season.
URL:https://www.ncrr.net/event/bullseye-am-2025-01-22/2025-10-08/
LOCATION:NCRR indoor range
CATEGORIES:Range Closed
ORGANIZER;CN="Ken McKinna":MAILTO:bullseye@ncrr.net
END:VEVENT
BEGIN:VEVENT
DTSTART;TZID=America/New_York:20251007T183000
DTEND;TZID=America/New_York:20251007T213000
DTSTAMP:20260423T075402
CREATED:20250104T155437Z
LAST-MODIFIED:20250104T155437Z
UID:10001159-1759861800-1759872600@www.ncrr.net
SUMMARY:Trap: Recreational
DESCRIPTION:$5 per round per adult\n$3 per round per Junior under 18
URL:https://www.ncrr.net/event/trap-rec-tuesday/2025-10-07/
LOCATION:NCRR outdoor shotgun range
CATEGORIES:Range Open
ORGANIZER;CN="Clay Floyd - Trap":MAILTO:shotgun@ncrr.net
END:VEVENT
BEGIN:VEVENT
DTSTART;TZID=America/New_York:20251007T163000
DTEND;TZID=America/New_York:20251007T210000
DTSTAMP:20260423T075402
CREATED:20250104T163636Z
LAST-MODIFIED:20250928T122812Z
UID:10001363-1759854600-1759870800@www.ncrr.net
SUMMARY:Bullseye PM
DESCRIPTION:The Bullseye League is open to anyone interested. See Bullseye Pistol for more details. \nCost is $60 for each season.
URL:https://www.ncrr.net/event/bullseye-pm/2025-10-07/
LOCATION:NCRR indoor range
CATEGORIES:Range Closed
ORGANIZER;CN="Ken McKinna":MAILTO:bullseye@ncrr.net
END:VEVENT
BEGIN:VEVENT
DTSTART;TZID=America/New_York:20251006T170000
DTEND;TZID=America/New_York:20251006T200000
DTSTAMP:20260423T075402
CREATED:20250104T162918Z
LAST-MODIFIED:20251123T130829Z
UID:10001299-1759770000-1759780800@www.ncrr.net
SUMMARY:Juniors
DESCRIPTION:Basic Description: The Juniors program is a youth shooting education program. The focus is Olympic style competition in air rifle\, small bore rifle and air pistol. \nAttendance: It is open to youth generally 12-19 years old\, but it is really determined by physical and mental maturity. Typically we have a waiting list but you are encouraged to contact us to see if we have openings. In addition\, we attempt to at least allow an interested youth to observe and participate in one night just to allow them the opportunity to see what it is all about (if this interests you\, please contact us first so we can arrange a time). \nEquipment: NCRR provides all equipment necessary to get started. Eventually most youth will obtain their own shooting equipment but still borrow the club’s guns. \nCoaches: NCRR provides NRA certified coaches and Range Safety Officers to work with the youth. \nStart/End Times: There are 2 relays of practice time 5:30-6:30 & 6:30-8:00. \nFor more information\, click here.
URL:https://www.ncrr.net/event/juniors/2025-10-06/
LOCATION:NCRR indoor range
CATEGORIES:Range Closed
ORGANIZER;CN="Lynn Wheeless":MAILTO:juniors@ncrr.net
END:VEVENT
BEGIN:VEVENT
DTSTART;TZID=America/New_York:20251005T130000
DTEND;TZID=America/New_York:20251005T160000
DTSTAMP:20260423T075402
CREATED:20140530T045002Z
LAST-MODIFIED:20250104T155206Z
UID:10001055-1759669200-1759680000@www.ncrr.net
SUMMARY:Trap: Recreational
DESCRIPTION:$5 per round per adult\n$3 per round per Junior under 18
URL:https://www.ncrr.net/event/trap-rec-sunday/2025-10-05/
LOCATION:NCRR outdoor shotgun range
CATEGORIES:Range Open
ORGANIZER;CN="Clay Floyd - Trap":MAILTO:shotgun@ncrr.net
END:VEVENT
BEGIN:VEVENT
DTSTART;TZID=America/New_York:20251004T140000
DTEND;TZID=America/New_York:20251004T170000
DTSTAMP:20260423T075402
CREATED:20250820T000205Z
LAST-MODIFIED:20260115T122307Z
UID:10001923-1759586400-1759597200@www.ncrr.net
SUMMARY:Trap: Recreational
DESCRIPTION:$5 per round per adult\n$3 per round per Junior under 18
URL:https://www.ncrr.net/event/trap-rec-sat-1-3-5-2/2025-10-04/
LOCATION:NCRR outdoor shotgun range
CATEGORIES:Range Open
ORGANIZER;CN="Clay Floyd - Trap":MAILTO:shotgun@ncrr.net
END:VEVENT
BEGIN:VEVENT
DTSTART;TZID=America/New_York:20251004T093000
DTEND;TZID=America/New_York:20251004T123000
DTSTAMP:20260423T075402
CREATED:20250104T180007Z
LAST-MODIFIED:20260206T143822Z
UID:10001807-1759570200-1759581000@www.ncrr.net
SUMMARY:Archery: JOAD
DESCRIPTION:
URL:https://www.ncrr.net/event/archery-joad/2025-10-04/
LOCATION:NCRR indoor range
CATEGORIES:Range Closed
ORGANIZER;CN="Ed Emmendorfer":MAILTO:archery@ncrr.net
END:VEVENT
BEGIN:VEVENT
DTSTART;TZID=America/New_York:20251004T090000
DTEND;TZID=America/New_York:20251004T130000
DTSTAMP:20260423T075402
CREATED:20250104T180525Z
LAST-MODIFIED:20260313T115006Z
UID:10001879-1759568400-1759582800@www.ncrr.net
SUMMARY:work party: general
DESCRIPTION:There are times we extend the hours if we have a project ongoing and can finish. \nDURING THE WORK PARTY THE INDOOR RANGE WILL BE CLOSED (not to affect JOAD or Tac-Shotgun) UNTIL WE HAVE COMPLETED THE WORK PARTY. \nIf you would like to volunteer for any of the above\, please notify the XO at xo@ncrr.net to reserve your spot. As always\, please don’t “just show up”.
URL:https://www.ncrr.net/event/work-party-general/2025-10-04/
CATEGORIES:Range Closed
END:VEVENT
BEGIN:VEVENT
DTSTART;TZID=America/New_York:20251004T070000
DTEND;TZID=America/New_York:20251004T140000
DTSTAMP:20260423T075402
CREATED:20250104T175642Z
LAST-MODIFIED:20251123T125518Z
UID:10001730-1759561200-1759586400@www.ncrr.net
SUMMARY:Tactical Shotgun
DESCRIPTION:Online registration. Match fee is due at check-in. \nSet up 7am\nSign up 8am\nShooting starts 8:30\n4-5 stages\nApprox 100 – 125 rounds\nNO SLUGS – NO BUCKSHOT\n7 1/2 or smaller bird shot only NO High Brass
URL:https://www.ncrr.net/event/tactical-shotgun/2025-10-04/
LOCATION:NCRR outdoor shotgun range
CATEGORIES:Range Open
ORGANIZER;CN="Jim Jones":MAILTO:tacticalshotgun@ncrr.net
END:VEVENT
BEGIN:VEVENT
DTSTART;TZID=America/New_York:20251002T190000
DTEND;TZID=America/New_York:20251002T210000
DTSTAMP:20260423T075402
CREATED:20250104T173233Z
LAST-MODIFIED:20251123T125718Z
UID:10001616-1759431600-1759438800@www.ncrr.net
SUMMARY:general business meeting
DESCRIPTION:Public is welcome to attend!\nStay informed and get updates about club happenings.
URL:https://www.ncrr.net/event/gbm/2025-10-02/
CATEGORIES:Range Partially Open
END:VEVENT
BEGIN:VEVENT
DTSTART;VALUE=DATE:20251002
DTEND;VALUE=DATE:20251003
DTSTAMP:20260423T075402
CREATED:20250104T172734Z
LAST-MODIFIED:20251123T131258Z
UID:10001543-1759363200-1759449599@www.ncrr.net
SUMMARY:building cleaning
DESCRIPTION:Except when being cleaned\, which takes roughly half hour\, pistol range is open.
URL:https://www.ncrr.net/event/building-cleaning/2025-10-02/
CATEGORIES:Range Partially Open
END:VEVENT
BEGIN:VEVENT
DTSTART;TZID=America/New_York:20251001T160000
DTEND;TZID=America/New_York:20251001T200000
DTSTAMP:20260423T075402
CREATED:20250104T170140Z
LAST-MODIFIED:20251123T130418Z
UID:10001465-1759334400-1759348800@www.ncrr.net
SUMMARY:Rimfire: pistol
DESCRIPTION:Welcome to Rimfire at NCRR.  The start and end times are 4pm until 8pm\, last sign up at 7:30pm. \nThe Pistol Matches will be shot using the same setup as usual from the small tables at the 15yd shooting line. \nAll scoring and shooting will be done the same as usual. \nFor more information see:  https://www.ncrr.net/programs/rimfire/ \nPrices:\n$10 Nonmembers\n$5 Members\n$5 Re-shoots \nhttps://www.ncrr.net/programs/rimfire/
URL:https://www.ncrr.net/event/rimfire-pistol/2025-10-01/
LOCATION:NCRR indoor range
CATEGORIES:Range Closed
ORGANIZER;CN="Jake Planinsek":MAILTO:rimfire@ncrr.net
END:VEVENT
BEGIN:VEVENT
DTSTART;TZID=America/New_York:20250930T183000
DTEND;TZID=America/New_York:20250930T213000
DTSTAMP:20260423T075402
CREATED:20250104T155437Z
LAST-MODIFIED:20250104T155437Z
UID:10001158-1759257000-1759267800@www.ncrr.net
SUMMARY:Trap: Recreational
DESCRIPTION:$5 per round per adult\n$3 per round per Junior under 18
URL:https://www.ncrr.net/event/trap-rec-tuesday/2025-09-30/
LOCATION:NCRR outdoor shotgun range
CATEGORIES:Range Open
ORGANIZER;CN="Clay Floyd - Trap":MAILTO:shotgun@ncrr.net
END:VEVENT
BEGIN:VEVENT
DTSTART;TZID=America/New_York:20250929T170000
DTEND;TZID=America/New_York:20250929T200000
DTSTAMP:20260423T075402
CREATED:20250104T162918Z
LAST-MODIFIED:20251123T130829Z
UID:10001298-1759165200-1759176000@www.ncrr.net
SUMMARY:Juniors
DESCRIPTION:Basic Description: The Juniors program is a youth shooting education program. The focus is Olympic style competition in air rifle\, small bore rifle and air pistol. \nAttendance: It is open to youth generally 12-19 years old\, but it is really determined by physical and mental maturity. Typically we have a waiting list but you are encouraged to contact us to see if we have openings. In addition\, we attempt to at least allow an interested youth to observe and participate in one night just to allow them the opportunity to see what it is all about (if this interests you\, please contact us first so we can arrange a time). \nEquipment: NCRR provides all equipment necessary to get started. Eventually most youth will obtain their own shooting equipment but still borrow the club’s guns. \nCoaches: NCRR provides NRA certified coaches and Range Safety Officers to work with the youth. \nStart/End Times: There are 2 relays of practice time 5:30-6:30 & 6:30-8:00. \nFor more information\, click here.
URL:https://www.ncrr.net/event/juniors/2025-09-29/
LOCATION:NCRR indoor range
CATEGORIES:Range Closed
ORGANIZER;CN="Lynn Wheeless":MAILTO:juniors@ncrr.net
END:VEVENT
BEGIN:VEVENT
DTSTART;TZID=America/New_York:20250928T130000
DTEND;TZID=America/New_York:20250928T160000
DTSTAMP:20260423T075402
CREATED:20140530T045002Z
LAST-MODIFIED:20250104T155206Z
UID:10001054-1759064400-1759075200@www.ncrr.net
SUMMARY:Trap: Recreational
DESCRIPTION:$5 per round per adult\n$3 per round per Junior under 18
URL:https://www.ncrr.net/event/trap-rec-sunday/2025-09-28/
LOCATION:NCRR outdoor shotgun range
CATEGORIES:Range Open
ORGANIZER;CN="Clay Floyd - Trap":MAILTO:shotgun@ncrr.net
END:VEVENT
BEGIN:VEVENT
DTSTART;TZID=America/New_York:20250927T123000
DTEND;TZID=America/New_York:20250927T170000
DTSTAMP:20260423T075402
CREATED:20260103T180415Z
LAST-MODIFIED:20260103T180415Z
UID:10001948-1758976200-1758992400@www.ncrr.net
SUMMARY:Trap: Recreational
DESCRIPTION:$5 per round per adult\n$3 per round per Junior under 18
URL:https://www.ncrr.net/event/trap-2-4/2025-09-27/
LOCATION:NCRR outdoor shotgun range
CATEGORIES:Range Open
ORGANIZER;CN="Clay Floyd - Trap":MAILTO:shotgun@ncrr.net
END:VEVENT
BEGIN:VEVENT
DTSTART;TZID=America/New_York:20250927T093000
DTEND;TZID=America/New_York:20250927T123000
DTSTAMP:20260423T075402
CREATED:20250104T180007Z
LAST-MODIFIED:20260206T143822Z
UID:10001806-1758965400-1758976200@www.ncrr.net
SUMMARY:Archery: JOAD
DESCRIPTION:
URL:https://www.ncrr.net/event/archery-joad/2025-09-27/
LOCATION:NCRR indoor range
CATEGORIES:Range Closed
ORGANIZER;CN="Ed Emmendorfer":MAILTO:archery@ncrr.net
END:VEVENT
END:VCALENDAR