BEGIN:VCALENDAR
VERSION:2.0
PRODID:-//Norfolk County Rifle Range - ECPv6.15.20//NONSGML v1.0//EN
CALSCALE:GREGORIAN
METHOD:PUBLISH
X-WR-CALNAME:Norfolk County Rifle Range
X-ORIGINAL-URL:https://www.ncrr.net
X-WR-CALDESC:Events for Norfolk County Rifle Range
REFRESH-INTERVAL;VALUE=DURATION:PT1H
X-Robots-Tag:noindex
X-PUBLISHED-TTL:PT1H
BEGIN:VTIMEZONE
TZID:America/New_York
BEGIN:DAYLIGHT
TZOFFSETFROM:-0500
TZOFFSETTO:-0400
TZNAME:EDT
DTSTART:20250309T070000
END:DAYLIGHT
BEGIN:STANDARD
TZOFFSETFROM:-0400
TZOFFSETTO:-0500
TZNAME:EST
DTSTART:20251102T060000
END:STANDARD
BEGIN:DAYLIGHT
TZOFFSETFROM:-0500
TZOFFSETTO:-0400
TZNAME:EDT
DTSTART:20260308T070000
END:DAYLIGHT
BEGIN:STANDARD
TZOFFSETFROM:-0400
TZOFFSETTO:-0500
TZNAME:EST
DTSTART:20261101T060000
END:STANDARD
BEGIN:DAYLIGHT
TZOFFSETFROM:-0500
TZOFFSETTO:-0400
TZNAME:EDT
DTSTART:20270314T070000
END:DAYLIGHT
BEGIN:STANDARD
TZOFFSETFROM:-0400
TZOFFSETTO:-0500
TZNAME:EST
DTSTART:20271107T060000
END:STANDARD
END:VTIMEZONE
BEGIN:VEVENT
DTSTART;VALUE=DATE:20260625
DTEND;VALUE=DATE:20260626
DTSTAMP:20260422T185254
CREATED:20250104T172734Z
LAST-MODIFIED:20251123T131258Z
UID:10001581-1782345600-1782431999@www.ncrr.net
SUMMARY:building cleaning
DESCRIPTION:Except when being cleaned\, which takes roughly half hour\, pistol range is open.
URL:https://www.ncrr.net/event/building-cleaning/2026-06-25/
CATEGORIES:Range Partially Open
END:VEVENT
BEGIN:VEVENT
DTSTART;VALUE=DATE:20260702
DTEND;VALUE=DATE:20260703
DTSTAMP:20260422T185254
CREATED:20250104T172734Z
LAST-MODIFIED:20251123T131258Z
UID:10001582-1782950400-1783036799@www.ncrr.net
SUMMARY:building cleaning
DESCRIPTION:Except when being cleaned\, which takes roughly half hour\, pistol range is open.
URL:https://www.ncrr.net/event/building-cleaning/2026-07-02/
CATEGORIES:Range Partially Open
END:VEVENT
BEGIN:VEVENT
DTSTART;TZID=America/New_York:20260702T190000
DTEND;TZID=America/New_York:20260702T210000
DTSTAMP:20260422T185254
CREATED:20250104T173233Z
LAST-MODIFIED:20251123T125718Z
UID:10001624-1783018800-1783026000@www.ncrr.net
SUMMARY:general business meeting
DESCRIPTION:Public is welcome to attend!\nStay informed and get updates about club happenings.
URL:https://www.ncrr.net/event/gbm/2026-07-02/
CATEGORIES:Range Partially Open
END:VEVENT
BEGIN:VEVENT
DTSTART;VALUE=DATE:20260709
DTEND;VALUE=DATE:20260710
DTSTAMP:20260422T185254
CREATED:20250104T172734Z
LAST-MODIFIED:20251123T131258Z
UID:10001583-1783555200-1783641599@www.ncrr.net
SUMMARY:building cleaning
DESCRIPTION:Except when being cleaned\, which takes roughly half hour\, pistol range is open.
URL:https://www.ncrr.net/event/building-cleaning/2026-07-09/
CATEGORIES:Range Partially Open
END:VEVENT
BEGIN:VEVENT
DTSTART;VALUE=DATE:20260716
DTEND;VALUE=DATE:20260717
DTSTAMP:20260422T185254
CREATED:20250104T172734Z
LAST-MODIFIED:20251123T131258Z
UID:10001584-1784160000-1784246399@www.ncrr.net
SUMMARY:building cleaning
DESCRIPTION:Except when being cleaned\, which takes roughly half hour\, pistol range is open.
URL:https://www.ncrr.net/event/building-cleaning/2026-07-16/
CATEGORIES:Range Partially Open
END:VEVENT
BEGIN:VEVENT
DTSTART;VALUE=DATE:20260723
DTEND;VALUE=DATE:20260724
DTSTAMP:20260422T185254
CREATED:20250104T172734Z
LAST-MODIFIED:20251123T131258Z
UID:10001585-1784764800-1784851199@www.ncrr.net
SUMMARY:building cleaning
DESCRIPTION:Except when being cleaned\, which takes roughly half hour\, pistol range is open.
URL:https://www.ncrr.net/event/building-cleaning/2026-07-23/
CATEGORIES:Range Partially Open
END:VEVENT
BEGIN:VEVENT
DTSTART;VALUE=DATE:20260730
DTEND;VALUE=DATE:20260731
DTSTAMP:20260422T185254
CREATED:20250104T172734Z
LAST-MODIFIED:20251123T131258Z
UID:10001586-1785369600-1785455999@www.ncrr.net
SUMMARY:building cleaning
DESCRIPTION:Except when being cleaned\, which takes roughly half hour\, pistol range is open.
URL:https://www.ncrr.net/event/building-cleaning/2026-07-30/
CATEGORIES:Range Partially Open
END:VEVENT
BEGIN:VEVENT
DTSTART;VALUE=DATE:20260806
DTEND;VALUE=DATE:20260807
DTSTAMP:20260422T185254
CREATED:20250104T172734Z
LAST-MODIFIED:20251123T131258Z
UID:10001587-1785974400-1786060799@www.ncrr.net
SUMMARY:building cleaning
DESCRIPTION:Except when being cleaned\, which takes roughly half hour\, pistol range is open.
URL:https://www.ncrr.net/event/building-cleaning/2026-08-06/
CATEGORIES:Range Partially Open
END:VEVENT
BEGIN:VEVENT
DTSTART;TZID=America/New_York:20260806T190000
DTEND;TZID=America/New_York:20260806T210000
DTSTAMP:20260422T185254
CREATED:20250104T173233Z
LAST-MODIFIED:20251123T125718Z
UID:10001625-1786042800-1786050000@www.ncrr.net
SUMMARY:general business meeting
DESCRIPTION:Public is welcome to attend!\nStay informed and get updates about club happenings.
URL:https://www.ncrr.net/event/gbm/2026-08-06/
CATEGORIES:Range Partially Open
END:VEVENT
BEGIN:VEVENT
DTSTART;VALUE=DATE:20260813
DTEND;VALUE=DATE:20260814
DTSTAMP:20260422T185254
CREATED:20250104T172734Z
LAST-MODIFIED:20251123T131258Z
UID:10001588-1786579200-1786665599@www.ncrr.net
SUMMARY:building cleaning
DESCRIPTION:Except when being cleaned\, which takes roughly half hour\, pistol range is open.
URL:https://www.ncrr.net/event/building-cleaning/2026-08-13/
CATEGORIES:Range Partially Open
END:VEVENT
BEGIN:VEVENT
DTSTART;VALUE=DATE:20260820
DTEND;VALUE=DATE:20260821
DTSTAMP:20260422T185254
CREATED:20250104T172734Z
LAST-MODIFIED:20251123T131258Z
UID:10001589-1787184000-1787270399@www.ncrr.net
SUMMARY:building cleaning
DESCRIPTION:Except when being cleaned\, which takes roughly half hour\, pistol range is open.
URL:https://www.ncrr.net/event/building-cleaning/2026-08-20/
CATEGORIES:Range Partially Open
END:VEVENT
BEGIN:VEVENT
DTSTART;VALUE=DATE:20260827
DTEND;VALUE=DATE:20260828
DTSTAMP:20260422T185254
CREATED:20250104T172734Z
LAST-MODIFIED:20251123T131258Z
UID:10001590-1787788800-1787875199@www.ncrr.net
SUMMARY:building cleaning
DESCRIPTION:Except when being cleaned\, which takes roughly half hour\, pistol range is open.
URL:https://www.ncrr.net/event/building-cleaning/2026-08-27/
CATEGORIES:Range Partially Open
END:VEVENT
BEGIN:VEVENT
DTSTART;VALUE=DATE:20260903
DTEND;VALUE=DATE:20260904
DTSTAMP:20260422T185254
CREATED:20250104T172734Z
LAST-MODIFIED:20251123T131258Z
UID:10001591-1788393600-1788479999@www.ncrr.net
SUMMARY:building cleaning
DESCRIPTION:Except when being cleaned\, which takes roughly half hour\, pistol range is open.
URL:https://www.ncrr.net/event/building-cleaning/2026-09-03/
CATEGORIES:Range Partially Open
END:VEVENT
BEGIN:VEVENT
DTSTART;TZID=America/New_York:20260903T190000
DTEND;TZID=America/New_York:20260903T210000
DTSTAMP:20260422T185254
CREATED:20250104T173233Z
LAST-MODIFIED:20251123T125718Z
UID:10001626-1788462000-1788469200@www.ncrr.net
SUMMARY:general business meeting
DESCRIPTION:Public is welcome to attend!\nStay informed and get updates about club happenings.
URL:https://www.ncrr.net/event/gbm/2026-09-03/
CATEGORIES:Range Partially Open
END:VEVENT
BEGIN:VEVENT
DTSTART;VALUE=DATE:20260910
DTEND;VALUE=DATE:20260911
DTSTAMP:20260422T185254
CREATED:20250104T172734Z
LAST-MODIFIED:20251123T131258Z
UID:10001592-1788998400-1789084799@www.ncrr.net
SUMMARY:building cleaning
DESCRIPTION:Except when being cleaned\, which takes roughly half hour\, pistol range is open.
URL:https://www.ncrr.net/event/building-cleaning/2026-09-10/
CATEGORIES:Range Partially Open
END:VEVENT
BEGIN:VEVENT
DTSTART;VALUE=DATE:20260917
DTEND;VALUE=DATE:20260918
DTSTAMP:20260422T185254
CREATED:20250104T172734Z
LAST-MODIFIED:20251123T131258Z
UID:10001593-1789603200-1789689599@www.ncrr.net
SUMMARY:building cleaning
DESCRIPTION:Except when being cleaned\, which takes roughly half hour\, pistol range is open.
URL:https://www.ncrr.net/event/building-cleaning/2026-09-17/
CATEGORIES:Range Partially Open
END:VEVENT
BEGIN:VEVENT
DTSTART;VALUE=DATE:20260924
DTEND;VALUE=DATE:20260925
DTSTAMP:20260422T185254
CREATED:20250104T172734Z
LAST-MODIFIED:20251123T131258Z
UID:10001594-1790208000-1790294399@www.ncrr.net
SUMMARY:building cleaning
DESCRIPTION:Except when being cleaned\, which takes roughly half hour\, pistol range is open.
URL:https://www.ncrr.net/event/building-cleaning/2026-09-24/
CATEGORIES:Range Partially Open
END:VEVENT
BEGIN:VEVENT
DTSTART;VALUE=DATE:20261001
DTEND;VALUE=DATE:20261002
DTSTAMP:20260422T185254
CREATED:20250104T172734Z
LAST-MODIFIED:20251123T131258Z
UID:10001595-1790812800-1790899199@www.ncrr.net
SUMMARY:building cleaning
DESCRIPTION:Except when being cleaned\, which takes roughly half hour\, pistol range is open.
URL:https://www.ncrr.net/event/building-cleaning/2026-10-01/
CATEGORIES:Range Partially Open
END:VEVENT
BEGIN:VEVENT
DTSTART;TZID=America/New_York:20261001T190000
DTEND;TZID=America/New_York:20261001T210000
DTSTAMP:20260422T185254
CREATED:20250104T173233Z
LAST-MODIFIED:20251123T125718Z
UID:10001627-1790881200-1790888400@www.ncrr.net
SUMMARY:general business meeting
DESCRIPTION:Public is welcome to attend!\nStay informed and get updates about club happenings.
URL:https://www.ncrr.net/event/gbm/2026-10-01/
CATEGORIES:Range Partially Open
END:VEVENT
BEGIN:VEVENT
DTSTART;VALUE=DATE:20261008
DTEND;VALUE=DATE:20261009
DTSTAMP:20260422T185254
CREATED:20250104T172734Z
LAST-MODIFIED:20251123T131258Z
UID:10001596-1791417600-1791503999@www.ncrr.net
SUMMARY:building cleaning
DESCRIPTION:Except when being cleaned\, which takes roughly half hour\, pistol range is open.
URL:https://www.ncrr.net/event/building-cleaning/2026-10-08/
CATEGORIES:Range Partially Open
END:VEVENT
BEGIN:VEVENT
DTSTART;VALUE=DATE:20261015
DTEND;VALUE=DATE:20261016
DTSTAMP:20260422T185254
CREATED:20250104T172734Z
LAST-MODIFIED:20251123T131258Z
UID:10001597-1792022400-1792108799@www.ncrr.net
SUMMARY:building cleaning
DESCRIPTION:Except when being cleaned\, which takes roughly half hour\, pistol range is open.
URL:https://www.ncrr.net/event/building-cleaning/2026-10-15/
CATEGORIES:Range Partially Open
END:VEVENT
BEGIN:VEVENT
DTSTART;VALUE=DATE:20261022
DTEND;VALUE=DATE:20261023
DTSTAMP:20260422T185254
CREATED:20250104T172734Z
LAST-MODIFIED:20251123T131258Z
UID:10001598-1792627200-1792713599@www.ncrr.net
SUMMARY:building cleaning
DESCRIPTION:Except when being cleaned\, which takes roughly half hour\, pistol range is open.
URL:https://www.ncrr.net/event/building-cleaning/2026-10-22/
CATEGORIES:Range Partially Open
END:VEVENT
BEGIN:VEVENT
DTSTART;VALUE=DATE:20261029
DTEND;VALUE=DATE:20261030
DTSTAMP:20260422T185254
CREATED:20250104T172734Z
LAST-MODIFIED:20251123T131258Z
UID:10001599-1793232000-1793318399@www.ncrr.net
SUMMARY:building cleaning
DESCRIPTION:Except when being cleaned\, which takes roughly half hour\, pistol range is open.
URL:https://www.ncrr.net/event/building-cleaning/2026-10-29/
CATEGORIES:Range Partially Open
END:VEVENT
BEGIN:VEVENT
DTSTART;VALUE=DATE:20261105
DTEND;VALUE=DATE:20261106
DTSTAMP:20260422T185254
CREATED:20250104T172734Z
LAST-MODIFIED:20251123T131258Z
UID:10001600-1793836800-1793923199@www.ncrr.net
SUMMARY:building cleaning
DESCRIPTION:Except when being cleaned\, which takes roughly half hour\, pistol range is open.
URL:https://www.ncrr.net/event/building-cleaning/2026-11-05/
CATEGORIES:Range Partially Open
END:VEVENT
BEGIN:VEVENT
DTSTART;TZID=America/New_York:20261105T190000
DTEND;TZID=America/New_York:20261105T210000
DTSTAMP:20260422T185254
CREATED:20250104T173233Z
LAST-MODIFIED:20251123T125718Z
UID:10001628-1793905200-1793912400@www.ncrr.net
SUMMARY:general business meeting
DESCRIPTION:Public is welcome to attend!\nStay informed and get updates about club happenings.
URL:https://www.ncrr.net/event/gbm/2026-11-05/
CATEGORIES:Range Partially Open
END:VEVENT
BEGIN:VEVENT
DTSTART;VALUE=DATE:20261112
DTEND;VALUE=DATE:20261113
DTSTAMP:20260422T185254
CREATED:20250104T172734Z
LAST-MODIFIED:20251123T131258Z
UID:10001601-1794441600-1794527999@www.ncrr.net
SUMMARY:building cleaning
DESCRIPTION:Except when being cleaned\, which takes roughly half hour\, pistol range is open.
URL:https://www.ncrr.net/event/building-cleaning/2026-11-12/
CATEGORIES:Range Partially Open
END:VEVENT
BEGIN:VEVENT
DTSTART;VALUE=DATE:20261119
DTEND;VALUE=DATE:20261120
DTSTAMP:20260422T185254
CREATED:20250104T172734Z
LAST-MODIFIED:20251123T131258Z
UID:10001602-1795046400-1795132799@www.ncrr.net
SUMMARY:building cleaning
DESCRIPTION:Except when being cleaned\, which takes roughly half hour\, pistol range is open.
URL:https://www.ncrr.net/event/building-cleaning/2026-11-19/
CATEGORIES:Range Partially Open
END:VEVENT
BEGIN:VEVENT
DTSTART;VALUE=DATE:20261126
DTEND;VALUE=DATE:20261127
DTSTAMP:20260422T185254
CREATED:20250104T172734Z
LAST-MODIFIED:20251123T131258Z
UID:10001603-1795651200-1795737599@www.ncrr.net
SUMMARY:building cleaning
DESCRIPTION:Except when being cleaned\, which takes roughly half hour\, pistol range is open.
URL:https://www.ncrr.net/event/building-cleaning/2026-11-26/
CATEGORIES:Range Partially Open
END:VEVENT
BEGIN:VEVENT
DTSTART;VALUE=DATE:20261203
DTEND;VALUE=DATE:20261204
DTSTAMP:20260422T185254
CREATED:20250104T172734Z
LAST-MODIFIED:20251123T131258Z
UID:10001604-1796256000-1796342399@www.ncrr.net
SUMMARY:building cleaning
DESCRIPTION:Except when being cleaned\, which takes roughly half hour\, pistol range is open.
URL:https://www.ncrr.net/event/building-cleaning/2026-12-03/
CATEGORIES:Range Partially Open
END:VEVENT
BEGIN:VEVENT
DTSTART;TZID=America/New_York:20261203T190000
DTEND;TZID=America/New_York:20261203T210000
DTSTAMP:20260422T185254
CREATED:20250104T173233Z
LAST-MODIFIED:20251123T125718Z
UID:10001629-1796324400-1796331600@www.ncrr.net
SUMMARY:general business meeting
DESCRIPTION:Public is welcome to attend!\nStay informed and get updates about club happenings.
URL:https://www.ncrr.net/event/gbm/2026-12-03/
CATEGORIES:Range Partially Open
END:VEVENT
END:VCALENDAR