BEGIN:VCALENDAR
VERSION:2.0
PRODID:-//Norfolk County Rifle Range - ECPv6.15.20//NONSGML v1.0//EN
CALSCALE:GREGORIAN
METHOD:PUBLISH
X-WR-CALNAME:Norfolk County Rifle Range
X-ORIGINAL-URL:https://www.ncrr.net
X-WR-CALDESC:Events for Norfolk County Rifle Range
REFRESH-INTERVAL;VALUE=DURATION:PT1H
X-Robots-Tag:noindex
X-PUBLISHED-TTL:PT1H
BEGIN:VTIMEZONE
TZID:America/New_York
BEGIN:DAYLIGHT
TZOFFSETFROM:-0500
TZOFFSETTO:-0400
TZNAME:EDT
DTSTART:20240310T070000
END:DAYLIGHT
BEGIN:STANDARD
TZOFFSETFROM:-0400
TZOFFSETTO:-0500
TZNAME:EST
DTSTART:20241103T060000
END:STANDARD
BEGIN:DAYLIGHT
TZOFFSETFROM:-0500
TZOFFSETTO:-0400
TZNAME:EDT
DTSTART:20250309T070000
END:DAYLIGHT
BEGIN:STANDARD
TZOFFSETFROM:-0400
TZOFFSETTO:-0500
TZNAME:EST
DTSTART:20251102T060000
END:STANDARD
BEGIN:DAYLIGHT
TZOFFSETFROM:-0500
TZOFFSETTO:-0400
TZNAME:EDT
DTSTART:20260308T070000
END:DAYLIGHT
BEGIN:STANDARD
TZOFFSETFROM:-0400
TZOFFSETTO:-0500
TZNAME:EST
DTSTART:20261101T060000
END:STANDARD
END:VTIMEZONE
BEGIN:VEVENT
DTSTART;VALUE=DATE:20250424
DTEND;VALUE=DATE:20250425
DTSTAMP:20260425T112703
CREATED:20250104T172734Z
LAST-MODIFIED:20251123T131258Z
UID:10001520-1745452800-1745539199@www.ncrr.net
SUMMARY:building cleaning
DESCRIPTION:Except when being cleaned\, which takes roughly half hour\, pistol range is open.
URL:https://www.ncrr.net/event/building-cleaning/2025-04-24/
CATEGORIES:Range Partially Open
END:VEVENT
BEGIN:VEVENT
DTSTART;VALUE=DATE:20250501
DTEND;VALUE=DATE:20250502
DTSTAMP:20260425T112703
CREATED:20250104T172734Z
LAST-MODIFIED:20251123T131258Z
UID:10001521-1746057600-1746143999@www.ncrr.net
SUMMARY:building cleaning
DESCRIPTION:Except when being cleaned\, which takes roughly half hour\, pistol range is open.
URL:https://www.ncrr.net/event/building-cleaning/2025-05-01/
CATEGORIES:Range Partially Open
END:VEVENT
BEGIN:VEVENT
DTSTART;TZID=America/New_York:20250501T190000
DTEND;TZID=America/New_York:20250501T210000
DTSTAMP:20260425T112703
CREATED:20250104T173233Z
LAST-MODIFIED:20251123T125718Z
UID:10001612-1746126000-1746133200@www.ncrr.net
SUMMARY:general business meeting
DESCRIPTION:Public is welcome to attend!\nStay informed and get updates about club happenings.
URL:https://www.ncrr.net/event/gbm/2025-05-01/
CATEGORIES:Range Partially Open
END:VEVENT
BEGIN:VEVENT
DTSTART;VALUE=DATE:20250508
DTEND;VALUE=DATE:20250509
DTSTAMP:20260425T112703
CREATED:20250104T172734Z
LAST-MODIFIED:20251123T131258Z
UID:10001522-1746662400-1746748799@www.ncrr.net
SUMMARY:building cleaning
DESCRIPTION:Except when being cleaned\, which takes roughly half hour\, pistol range is open.
URL:https://www.ncrr.net/event/building-cleaning/2025-05-08/
CATEGORIES:Range Partially Open
END:VEVENT
BEGIN:VEVENT
DTSTART;VALUE=DATE:20250515
DTEND;VALUE=DATE:20250516
DTSTAMP:20260425T112703
CREATED:20250104T172734Z
LAST-MODIFIED:20251123T131258Z
UID:10001523-1747267200-1747353599@www.ncrr.net
SUMMARY:building cleaning
DESCRIPTION:Except when being cleaned\, which takes roughly half hour\, pistol range is open.
URL:https://www.ncrr.net/event/building-cleaning/2025-05-15/
CATEGORIES:Range Partially Open
END:VEVENT
BEGIN:VEVENT
DTSTART;VALUE=DATE:20250522
DTEND;VALUE=DATE:20250523
DTSTAMP:20260425T112703
CREATED:20250104T172734Z
LAST-MODIFIED:20251123T131258Z
UID:10001524-1747872000-1747958399@www.ncrr.net
SUMMARY:building cleaning
DESCRIPTION:Except when being cleaned\, which takes roughly half hour\, pistol range is open.
URL:https://www.ncrr.net/event/building-cleaning/2025-05-22/
CATEGORIES:Range Partially Open
END:VEVENT
BEGIN:VEVENT
DTSTART;VALUE=DATE:20250529
DTEND;VALUE=DATE:20250530
DTSTAMP:20260425T112703
CREATED:20250104T172734Z
LAST-MODIFIED:20251123T131258Z
UID:10001525-1748476800-1748563199@www.ncrr.net
SUMMARY:building cleaning
DESCRIPTION:Except when being cleaned\, which takes roughly half hour\, pistol range is open.
URL:https://www.ncrr.net/event/building-cleaning/2025-05-29/
CATEGORIES:Range Partially Open
END:VEVENT
BEGIN:VEVENT
DTSTART;VALUE=DATE:20250605
DTEND;VALUE=DATE:20250606
DTSTAMP:20260425T112703
CREATED:20250104T172734Z
LAST-MODIFIED:20251123T131258Z
UID:10001526-1749081600-1749167999@www.ncrr.net
SUMMARY:building cleaning
DESCRIPTION:Except when being cleaned\, which takes roughly half hour\, pistol range is open.
URL:https://www.ncrr.net/event/building-cleaning/2025-06-05/
CATEGORIES:Range Partially Open
END:VEVENT
BEGIN:VEVENT
DTSTART;TZID=America/New_York:20250605T190000
DTEND;TZID=America/New_York:20250605T210000
DTSTAMP:20260425T112703
CREATED:20250104T173233Z
LAST-MODIFIED:20251123T125718Z
UID:10001613-1749150000-1749157200@www.ncrr.net
SUMMARY:general business meeting
DESCRIPTION:Public is welcome to attend!\nStay informed and get updates about club happenings.
URL:https://www.ncrr.net/event/gbm/2025-06-05/
CATEGORIES:Range Partially Open
END:VEVENT
BEGIN:VEVENT
DTSTART;VALUE=DATE:20250612
DTEND;VALUE=DATE:20250613
DTSTAMP:20260425T112703
CREATED:20250104T172734Z
LAST-MODIFIED:20251123T131258Z
UID:10001527-1749686400-1749772799@www.ncrr.net
SUMMARY:building cleaning
DESCRIPTION:Except when being cleaned\, which takes roughly half hour\, pistol range is open.
URL:https://www.ncrr.net/event/building-cleaning/2025-06-12/
CATEGORIES:Range Partially Open
END:VEVENT
BEGIN:VEVENT
DTSTART;VALUE=DATE:20250619
DTEND;VALUE=DATE:20250620
DTSTAMP:20260425T112703
CREATED:20250104T172734Z
LAST-MODIFIED:20251123T131258Z
UID:10001528-1750291200-1750377599@www.ncrr.net
SUMMARY:building cleaning
DESCRIPTION:Except when being cleaned\, which takes roughly half hour\, pistol range is open.
URL:https://www.ncrr.net/event/building-cleaning/2025-06-19/
CATEGORIES:Range Partially Open
END:VEVENT
BEGIN:VEVENT
DTSTART;VALUE=DATE:20250626
DTEND;VALUE=DATE:20250627
DTSTAMP:20260425T112703
CREATED:20250104T172734Z
LAST-MODIFIED:20251123T131258Z
UID:10001529-1750896000-1750982399@www.ncrr.net
SUMMARY:building cleaning
DESCRIPTION:Except when being cleaned\, which takes roughly half hour\, pistol range is open.
URL:https://www.ncrr.net/event/building-cleaning/2025-06-26/
CATEGORIES:Range Partially Open
END:VEVENT
BEGIN:VEVENT
DTSTART;VALUE=DATE:20250703
DTEND;VALUE=DATE:20250704
DTSTAMP:20260425T112703
CREATED:20250104T172734Z
LAST-MODIFIED:20251123T131258Z
UID:10001530-1751500800-1751587199@www.ncrr.net
SUMMARY:building cleaning
DESCRIPTION:Except when being cleaned\, which takes roughly half hour\, pistol range is open.
URL:https://www.ncrr.net/event/building-cleaning/2025-07-03/
CATEGORIES:Range Partially Open
END:VEVENT
BEGIN:VEVENT
DTSTART;VALUE=DATE:20250710
DTEND;VALUE=DATE:20250711
DTSTAMP:20260425T112703
CREATED:20250104T172734Z
LAST-MODIFIED:20251123T131258Z
UID:10001531-1752105600-1752191999@www.ncrr.net
SUMMARY:building cleaning
DESCRIPTION:Except when being cleaned\, which takes roughly half hour\, pistol range is open.
URL:https://www.ncrr.net/event/building-cleaning/2025-07-10/
CATEGORIES:Range Partially Open
END:VEVENT
BEGIN:VEVENT
DTSTART;VALUE=DATE:20250717
DTEND;VALUE=DATE:20250718
DTSTAMP:20260425T112703
CREATED:20250104T172734Z
LAST-MODIFIED:20251123T131258Z
UID:10001532-1752710400-1752796799@www.ncrr.net
SUMMARY:building cleaning
DESCRIPTION:Except when being cleaned\, which takes roughly half hour\, pistol range is open.
URL:https://www.ncrr.net/event/building-cleaning/2025-07-17/
CATEGORIES:Range Partially Open
END:VEVENT
BEGIN:VEVENT
DTSTART;VALUE=DATE:20250724
DTEND;VALUE=DATE:20250725
DTSTAMP:20260425T112703
CREATED:20250104T172734Z
LAST-MODIFIED:20251123T131258Z
UID:10001533-1753315200-1753401599@www.ncrr.net
SUMMARY:building cleaning
DESCRIPTION:Except when being cleaned\, which takes roughly half hour\, pistol range is open.
URL:https://www.ncrr.net/event/building-cleaning/2025-07-24/
CATEGORIES:Range Partially Open
END:VEVENT
BEGIN:VEVENT
DTSTART;VALUE=DATE:20250731
DTEND;VALUE=DATE:20250801
DTSTAMP:20260425T112703
CREATED:20250104T172734Z
LAST-MODIFIED:20251123T131258Z
UID:10001534-1753920000-1754006399@www.ncrr.net
SUMMARY:building cleaning
DESCRIPTION:Except when being cleaned\, which takes roughly half hour\, pistol range is open.
URL:https://www.ncrr.net/event/building-cleaning/2025-07-31/
CATEGORIES:Range Partially Open
END:VEVENT
BEGIN:VEVENT
DTSTART;VALUE=DATE:20250807
DTEND;VALUE=DATE:20250808
DTSTAMP:20260425T112703
CREATED:20250104T172734Z
LAST-MODIFIED:20251123T131258Z
UID:10001535-1754524800-1754611199@www.ncrr.net
SUMMARY:building cleaning
DESCRIPTION:Except when being cleaned\, which takes roughly half hour\, pistol range is open.
URL:https://www.ncrr.net/event/building-cleaning/2025-08-07/
CATEGORIES:Range Partially Open
END:VEVENT
BEGIN:VEVENT
DTSTART;TZID=America/New_York:20250807T190000
DTEND;TZID=America/New_York:20250807T210000
DTSTAMP:20260425T112703
CREATED:20250104T173233Z
LAST-MODIFIED:20251123T125718Z
UID:10001614-1754593200-1754600400@www.ncrr.net
SUMMARY:general business meeting
DESCRIPTION:Public is welcome to attend!\nStay informed and get updates about club happenings.
URL:https://www.ncrr.net/event/gbm/2025-08-07/
CATEGORIES:Range Partially Open
END:VEVENT
BEGIN:VEVENT
DTSTART;VALUE=DATE:20250814
DTEND;VALUE=DATE:20250815
DTSTAMP:20260425T112703
CREATED:20250104T172734Z
LAST-MODIFIED:20251123T131258Z
UID:10001536-1755129600-1755215999@www.ncrr.net
SUMMARY:building cleaning
DESCRIPTION:Except when being cleaned\, which takes roughly half hour\, pistol range is open.
URL:https://www.ncrr.net/event/building-cleaning/2025-08-14/
CATEGORIES:Range Partially Open
END:VEVENT
BEGIN:VEVENT
DTSTART;VALUE=DATE:20250821
DTEND;VALUE=DATE:20250822
DTSTAMP:20260425T112703
CREATED:20250104T172734Z
LAST-MODIFIED:20251123T131258Z
UID:10001537-1755734400-1755820799@www.ncrr.net
SUMMARY:building cleaning
DESCRIPTION:Except when being cleaned\, which takes roughly half hour\, pistol range is open.
URL:https://www.ncrr.net/event/building-cleaning/2025-08-21/
CATEGORIES:Range Partially Open
END:VEVENT
BEGIN:VEVENT
DTSTART;VALUE=DATE:20250828
DTEND;VALUE=DATE:20250829
DTSTAMP:20260425T112703
CREATED:20250104T172734Z
LAST-MODIFIED:20251123T131258Z
UID:10001538-1756339200-1756425599@www.ncrr.net
SUMMARY:building cleaning
DESCRIPTION:Except when being cleaned\, which takes roughly half hour\, pistol range is open.
URL:https://www.ncrr.net/event/building-cleaning/2025-08-28/
CATEGORIES:Range Partially Open
END:VEVENT
BEGIN:VEVENT
DTSTART;VALUE=DATE:20250904
DTEND;VALUE=DATE:20250905
DTSTAMP:20260425T112703
CREATED:20250104T172734Z
LAST-MODIFIED:20251123T131258Z
UID:10001539-1756944000-1757030399@www.ncrr.net
SUMMARY:building cleaning
DESCRIPTION:Except when being cleaned\, which takes roughly half hour\, pistol range is open.
URL:https://www.ncrr.net/event/building-cleaning/2025-09-04/
CATEGORIES:Range Partially Open
END:VEVENT
BEGIN:VEVENT
DTSTART;TZID=America/New_York:20250904T190000
DTEND;TZID=America/New_York:20250904T210000
DTSTAMP:20260425T112703
CREATED:20250104T173233Z
LAST-MODIFIED:20251123T125718Z
UID:10001615-1757012400-1757019600@www.ncrr.net
SUMMARY:general business meeting
DESCRIPTION:Public is welcome to attend!\nStay informed and get updates about club happenings.
URL:https://www.ncrr.net/event/gbm/2025-09-04/
CATEGORIES:Range Partially Open
END:VEVENT
BEGIN:VEVENT
DTSTART;VALUE=DATE:20250911
DTEND;VALUE=DATE:20250912
DTSTAMP:20260425T112703
CREATED:20250104T172734Z
LAST-MODIFIED:20251123T131258Z
UID:10001540-1757548800-1757635199@www.ncrr.net
SUMMARY:building cleaning
DESCRIPTION:Except when being cleaned\, which takes roughly half hour\, pistol range is open.
URL:https://www.ncrr.net/event/building-cleaning/2025-09-11/
CATEGORIES:Range Partially Open
END:VEVENT
BEGIN:VEVENT
DTSTART;VALUE=DATE:20250918
DTEND;VALUE=DATE:20250919
DTSTAMP:20260425T112703
CREATED:20250104T172734Z
LAST-MODIFIED:20251123T131258Z
UID:10001541-1758153600-1758239999@www.ncrr.net
SUMMARY:building cleaning
DESCRIPTION:Except when being cleaned\, which takes roughly half hour\, pistol range is open.
URL:https://www.ncrr.net/event/building-cleaning/2025-09-18/
CATEGORIES:Range Partially Open
END:VEVENT
BEGIN:VEVENT
DTSTART;VALUE=DATE:20250925
DTEND;VALUE=DATE:20250926
DTSTAMP:20260425T112703
CREATED:20250104T172734Z
LAST-MODIFIED:20251123T131258Z
UID:10001542-1758758400-1758844799@www.ncrr.net
SUMMARY:building cleaning
DESCRIPTION:Except when being cleaned\, which takes roughly half hour\, pistol range is open.
URL:https://www.ncrr.net/event/building-cleaning/2025-09-25/
CATEGORIES:Range Partially Open
END:VEVENT
BEGIN:VEVENT
DTSTART;VALUE=DATE:20251002
DTEND;VALUE=DATE:20251003
DTSTAMP:20260425T112703
CREATED:20250104T172734Z
LAST-MODIFIED:20251123T131258Z
UID:10001543-1759363200-1759449599@www.ncrr.net
SUMMARY:building cleaning
DESCRIPTION:Except when being cleaned\, which takes roughly half hour\, pistol range is open.
URL:https://www.ncrr.net/event/building-cleaning/2025-10-02/
CATEGORIES:Range Partially Open
END:VEVENT
BEGIN:VEVENT
DTSTART;TZID=America/New_York:20251002T190000
DTEND;TZID=America/New_York:20251002T210000
DTSTAMP:20260425T112703
CREATED:20250104T173233Z
LAST-MODIFIED:20251123T125718Z
UID:10001616-1759431600-1759438800@www.ncrr.net
SUMMARY:general business meeting
DESCRIPTION:Public is welcome to attend!\nStay informed and get updates about club happenings.
URL:https://www.ncrr.net/event/gbm/2025-10-02/
CATEGORIES:Range Partially Open
END:VEVENT
BEGIN:VEVENT
DTSTART;VALUE=DATE:20251009
DTEND;VALUE=DATE:20251010
DTSTAMP:20260425T112703
CREATED:20250104T172734Z
LAST-MODIFIED:20251123T131258Z
UID:10001544-1759968000-1760054399@www.ncrr.net
SUMMARY:building cleaning
DESCRIPTION:Except when being cleaned\, which takes roughly half hour\, pistol range is open.
URL:https://www.ncrr.net/event/building-cleaning/2025-10-09/
CATEGORIES:Range Partially Open
END:VEVENT
END:VCALENDAR