BEGIN:VCALENDAR
VERSION:2.0
PRODID:-//Norfolk County Rifle Range - ECPv6.15.20//NONSGML v1.0//EN
CALSCALE:GREGORIAN
METHOD:PUBLISH
X-WR-CALNAME:Norfolk County Rifle Range
X-ORIGINAL-URL:https://www.ncrr.net
X-WR-CALDESC:Events for Norfolk County Rifle Range
REFRESH-INTERVAL;VALUE=DURATION:PT1H
X-Robots-Tag:noindex
X-PUBLISHED-TTL:PT1H
BEGIN:VTIMEZONE
TZID:America/New_York
BEGIN:DAYLIGHT
TZOFFSETFROM:-0500
TZOFFSETTO:-0400
TZNAME:EDT
DTSTART:20240310T070000
END:DAYLIGHT
BEGIN:STANDARD
TZOFFSETFROM:-0400
TZOFFSETTO:-0500
TZNAME:EST
DTSTART:20241103T060000
END:STANDARD
BEGIN:DAYLIGHT
TZOFFSETFROM:-0500
TZOFFSETTO:-0400
TZNAME:EDT
DTSTART:20250309T070000
END:DAYLIGHT
BEGIN:STANDARD
TZOFFSETFROM:-0400
TZOFFSETTO:-0500
TZNAME:EST
DTSTART:20251102T060000
END:STANDARD
BEGIN:DAYLIGHT
TZOFFSETFROM:-0500
TZOFFSETTO:-0400
TZNAME:EDT
DTSTART:20260308T070000
END:DAYLIGHT
BEGIN:STANDARD
TZOFFSETFROM:-0400
TZOFFSETTO:-0500
TZNAME:EST
DTSTART:20261101T060000
END:STANDARD
BEGIN:DAYLIGHT
TZOFFSETFROM:-0500
TZOFFSETTO:-0400
TZNAME:EDT
DTSTART:20270314T070000
END:DAYLIGHT
BEGIN:STANDARD
TZOFFSETFROM:-0400
TZOFFSETTO:-0500
TZNAME:EST
DTSTART:20271107T060000
END:STANDARD
END:VTIMEZONE
BEGIN:VEVENT
DTSTART;VALUE=DATE:20250911
DTEND;VALUE=DATE:20250912
DTSTAMP:20260423T063810
CREATED:20250104T172734Z
LAST-MODIFIED:20251123T131258Z
UID:10001540-1757548800-1757635199@www.ncrr.net
SUMMARY:building cleaning
DESCRIPTION:Except when being cleaned\, which takes roughly half hour\, pistol range is open.
URL:https://www.ncrr.net/event/building-cleaning/2025-09-11/
CATEGORIES:Range Partially Open
END:VEVENT
BEGIN:VEVENT
DTSTART;VALUE=DATE:20250918
DTEND;VALUE=DATE:20250919
DTSTAMP:20260423T063810
CREATED:20250104T172734Z
LAST-MODIFIED:20251123T131258Z
UID:10001541-1758153600-1758239999@www.ncrr.net
SUMMARY:building cleaning
DESCRIPTION:Except when being cleaned\, which takes roughly half hour\, pistol range is open.
URL:https://www.ncrr.net/event/building-cleaning/2025-09-18/
CATEGORIES:Range Partially Open
END:VEVENT
BEGIN:VEVENT
DTSTART;VALUE=DATE:20250925
DTEND;VALUE=DATE:20250926
DTSTAMP:20260423T063810
CREATED:20250104T172734Z
LAST-MODIFIED:20251123T131258Z
UID:10001542-1758758400-1758844799@www.ncrr.net
SUMMARY:building cleaning
DESCRIPTION:Except when being cleaned\, which takes roughly half hour\, pistol range is open.
URL:https://www.ncrr.net/event/building-cleaning/2025-09-25/
CATEGORIES:Range Partially Open
END:VEVENT
BEGIN:VEVENT
DTSTART;VALUE=DATE:20251002
DTEND;VALUE=DATE:20251003
DTSTAMP:20260423T063810
CREATED:20250104T172734Z
LAST-MODIFIED:20251123T131258Z
UID:10001543-1759363200-1759449599@www.ncrr.net
SUMMARY:building cleaning
DESCRIPTION:Except when being cleaned\, which takes roughly half hour\, pistol range is open.
URL:https://www.ncrr.net/event/building-cleaning/2025-10-02/
CATEGORIES:Range Partially Open
END:VEVENT
BEGIN:VEVENT
DTSTART;TZID=America/New_York:20251002T190000
DTEND;TZID=America/New_York:20251002T210000
DTSTAMP:20260423T063810
CREATED:20250104T173233Z
LAST-MODIFIED:20251123T125718Z
UID:10001616-1759431600-1759438800@www.ncrr.net
SUMMARY:general business meeting
DESCRIPTION:Public is welcome to attend!\nStay informed and get updates about club happenings.
URL:https://www.ncrr.net/event/gbm/2025-10-02/
CATEGORIES:Range Partially Open
END:VEVENT
BEGIN:VEVENT
DTSTART;VALUE=DATE:20251009
DTEND;VALUE=DATE:20251010
DTSTAMP:20260423T063810
CREATED:20250104T172734Z
LAST-MODIFIED:20251123T131258Z
UID:10001544-1759968000-1760054399@www.ncrr.net
SUMMARY:building cleaning
DESCRIPTION:Except when being cleaned\, which takes roughly half hour\, pistol range is open.
URL:https://www.ncrr.net/event/building-cleaning/2025-10-09/
CATEGORIES:Range Partially Open
END:VEVENT
BEGIN:VEVENT
DTSTART;VALUE=DATE:20251016
DTEND;VALUE=DATE:20251017
DTSTAMP:20260423T063810
CREATED:20250104T172734Z
LAST-MODIFIED:20251123T131258Z
UID:10001545-1760572800-1760659199@www.ncrr.net
SUMMARY:building cleaning
DESCRIPTION:Except when being cleaned\, which takes roughly half hour\, pistol range is open.
URL:https://www.ncrr.net/event/building-cleaning/2025-10-16/
CATEGORIES:Range Partially Open
END:VEVENT
BEGIN:VEVENT
DTSTART;VALUE=DATE:20251023
DTEND;VALUE=DATE:20251024
DTSTAMP:20260423T063810
CREATED:20250104T172734Z
LAST-MODIFIED:20251123T131258Z
UID:10001546-1761177600-1761263999@www.ncrr.net
SUMMARY:building cleaning
DESCRIPTION:Except when being cleaned\, which takes roughly half hour\, pistol range is open.
URL:https://www.ncrr.net/event/building-cleaning/2025-10-23/
CATEGORIES:Range Partially Open
END:VEVENT
BEGIN:VEVENT
DTSTART;VALUE=DATE:20251030
DTEND;VALUE=DATE:20251031
DTSTAMP:20260423T063810
CREATED:20250104T172734Z
LAST-MODIFIED:20251123T131258Z
UID:10001547-1761782400-1761868799@www.ncrr.net
SUMMARY:building cleaning
DESCRIPTION:Except when being cleaned\, which takes roughly half hour\, pistol range is open.
URL:https://www.ncrr.net/event/building-cleaning/2025-10-30/
CATEGORIES:Range Partially Open
END:VEVENT
BEGIN:VEVENT
DTSTART;VALUE=DATE:20251106
DTEND;VALUE=DATE:20251107
DTSTAMP:20260423T063810
CREATED:20250104T172734Z
LAST-MODIFIED:20251123T131258Z
UID:10001548-1762387200-1762473599@www.ncrr.net
SUMMARY:building cleaning
DESCRIPTION:Except when being cleaned\, which takes roughly half hour\, pistol range is open.
URL:https://www.ncrr.net/event/building-cleaning/2025-11-06/
CATEGORIES:Range Partially Open
END:VEVENT
BEGIN:VEVENT
DTSTART;TZID=America/New_York:20251106T190000
DTEND;TZID=America/New_York:20251106T210000
DTSTAMP:20260423T063810
CREATED:20250104T173233Z
LAST-MODIFIED:20251123T125718Z
UID:10001617-1762455600-1762462800@www.ncrr.net
SUMMARY:general business meeting
DESCRIPTION:Public is welcome to attend!\nStay informed and get updates about club happenings.
URL:https://www.ncrr.net/event/gbm/2025-11-06/
CATEGORIES:Range Partially Open
END:VEVENT
BEGIN:VEVENT
DTSTART;VALUE=DATE:20251113
DTEND;VALUE=DATE:20251114
DTSTAMP:20260423T063810
CREATED:20250104T172734Z
LAST-MODIFIED:20251123T131258Z
UID:10001549-1762992000-1763078399@www.ncrr.net
SUMMARY:building cleaning
DESCRIPTION:Except when being cleaned\, which takes roughly half hour\, pistol range is open.
URL:https://www.ncrr.net/event/building-cleaning/2025-11-13/
CATEGORIES:Range Partially Open
END:VEVENT
BEGIN:VEVENT
DTSTART;VALUE=DATE:20251120
DTEND;VALUE=DATE:20251121
DTSTAMP:20260423T063810
CREATED:20250104T172734Z
LAST-MODIFIED:20251123T131258Z
UID:10001550-1763596800-1763683199@www.ncrr.net
SUMMARY:building cleaning
DESCRIPTION:Except when being cleaned\, which takes roughly half hour\, pistol range is open.
URL:https://www.ncrr.net/event/building-cleaning/2025-11-20/
CATEGORIES:Range Partially Open
END:VEVENT
BEGIN:VEVENT
DTSTART;VALUE=DATE:20251127
DTEND;VALUE=DATE:20251128
DTSTAMP:20260423T063810
CREATED:20250104T172734Z
LAST-MODIFIED:20251123T131258Z
UID:10001551-1764201600-1764287999@www.ncrr.net
SUMMARY:building cleaning
DESCRIPTION:Except when being cleaned\, which takes roughly half hour\, pistol range is open.
URL:https://www.ncrr.net/event/building-cleaning/2025-11-27/
CATEGORIES:Range Partially Open
END:VEVENT
BEGIN:VEVENT
DTSTART;VALUE=DATE:20251204
DTEND;VALUE=DATE:20251205
DTSTAMP:20260423T063810
CREATED:20250104T172734Z
LAST-MODIFIED:20251123T131258Z
UID:10001552-1764806400-1764892799@www.ncrr.net
SUMMARY:building cleaning
DESCRIPTION:Except when being cleaned\, which takes roughly half hour\, pistol range is open.
URL:https://www.ncrr.net/event/building-cleaning/2025-12-04/
CATEGORIES:Range Partially Open
END:VEVENT
BEGIN:VEVENT
DTSTART;TZID=America/New_York:20251204T190000
DTEND;TZID=America/New_York:20251204T210000
DTSTAMP:20260423T063810
CREATED:20250104T173233Z
LAST-MODIFIED:20251123T125718Z
UID:10001618-1764874800-1764882000@www.ncrr.net
SUMMARY:general business meeting
DESCRIPTION:Public is welcome to attend!\nStay informed and get updates about club happenings.
URL:https://www.ncrr.net/event/gbm/2025-12-04/
CATEGORIES:Range Partially Open
END:VEVENT
BEGIN:VEVENT
DTSTART;VALUE=DATE:20251211
DTEND;VALUE=DATE:20251212
DTSTAMP:20260423T063810
CREATED:20250104T172734Z
LAST-MODIFIED:20251123T131258Z
UID:10001553-1765411200-1765497599@www.ncrr.net
SUMMARY:building cleaning
DESCRIPTION:Except when being cleaned\, which takes roughly half hour\, pistol range is open.
URL:https://www.ncrr.net/event/building-cleaning/2025-12-11/
CATEGORIES:Range Partially Open
END:VEVENT
BEGIN:VEVENT
DTSTART;VALUE=DATE:20251218
DTEND;VALUE=DATE:20251219
DTSTAMP:20260423T063810
CREATED:20250104T172734Z
LAST-MODIFIED:20251123T131258Z
UID:10001554-1766016000-1766102399@www.ncrr.net
SUMMARY:building cleaning
DESCRIPTION:Except when being cleaned\, which takes roughly half hour\, pistol range is open.
URL:https://www.ncrr.net/event/building-cleaning/2025-12-18/
CATEGORIES:Range Partially Open
END:VEVENT
BEGIN:VEVENT
DTSTART;VALUE=DATE:20251225
DTEND;VALUE=DATE:20251226
DTSTAMP:20260423T063810
CREATED:20250104T172734Z
LAST-MODIFIED:20251123T131258Z
UID:10001555-1766620800-1766707199@www.ncrr.net
SUMMARY:building cleaning
DESCRIPTION:Except when being cleaned\, which takes roughly half hour\, pistol range is open.
URL:https://www.ncrr.net/event/building-cleaning/2025-12-25/
CATEGORIES:Range Partially Open
END:VEVENT
BEGIN:VEVENT
DTSTART;VALUE=DATE:20260101
DTEND;VALUE=DATE:20260102
DTSTAMP:20260423T063810
CREATED:20250104T172734Z
LAST-MODIFIED:20251123T131258Z
UID:10001556-1767225600-1767311999@www.ncrr.net
SUMMARY:building cleaning
DESCRIPTION:Except when being cleaned\, which takes roughly half hour\, pistol range is open.
URL:https://www.ncrr.net/event/building-cleaning/2026-01-01/
CATEGORIES:Range Partially Open
END:VEVENT
BEGIN:VEVENT
DTSTART;VALUE=DATE:20260108
DTEND;VALUE=DATE:20260109
DTSTAMP:20260423T063810
CREATED:20250104T172734Z
LAST-MODIFIED:20251123T131258Z
UID:10001557-1767830400-1767916799@www.ncrr.net
SUMMARY:building cleaning
DESCRIPTION:Except when being cleaned\, which takes roughly half hour\, pistol range is open.
URL:https://www.ncrr.net/event/building-cleaning/2026-01-08/
CATEGORIES:Range Partially Open
END:VEVENT
BEGIN:VEVENT
DTSTART;TZID=America/New_York:20260108T190000
DTEND;TZID=America/New_York:20260108T210000
DTSTAMP:20260423T063810
CREATED:20250104T173233Z
LAST-MODIFIED:20251215T000255Z
UID:10001632-1767898800-1767906000@www.ncrr.net
SUMMARY:general business meeting
DESCRIPTION:Public is welcome to attend!\nStay informed and get updates about club happenings.
URL:https://www.ncrr.net/event/gbm-2026-01-01/
CATEGORIES:Range Partially Open
END:VEVENT
BEGIN:VEVENT
DTSTART;VALUE=DATE:20260115
DTEND;VALUE=DATE:20260116
DTSTAMP:20260423T063810
CREATED:20250104T172734Z
LAST-MODIFIED:20251123T131258Z
UID:10001558-1768435200-1768521599@www.ncrr.net
SUMMARY:building cleaning
DESCRIPTION:Except when being cleaned\, which takes roughly half hour\, pistol range is open.
URL:https://www.ncrr.net/event/building-cleaning/2026-01-15/
CATEGORIES:Range Partially Open
END:VEVENT
BEGIN:VEVENT
DTSTART;VALUE=DATE:20260122
DTEND;VALUE=DATE:20260123
DTSTAMP:20260423T063810
CREATED:20250104T172734Z
LAST-MODIFIED:20251123T131258Z
UID:10001559-1769040000-1769126399@www.ncrr.net
SUMMARY:building cleaning
DESCRIPTION:Except when being cleaned\, which takes roughly half hour\, pistol range is open.
URL:https://www.ncrr.net/event/building-cleaning/2026-01-22/
CATEGORIES:Range Partially Open
END:VEVENT
BEGIN:VEVENT
DTSTART;VALUE=DATE:20260129
DTEND;VALUE=DATE:20260130
DTSTAMP:20260423T063810
CREATED:20250104T172734Z
LAST-MODIFIED:20251123T131258Z
UID:10001560-1769644800-1769731199@www.ncrr.net
SUMMARY:building cleaning
DESCRIPTION:Except when being cleaned\, which takes roughly half hour\, pistol range is open.
URL:https://www.ncrr.net/event/building-cleaning/2026-01-29/
CATEGORIES:Range Partially Open
END:VEVENT
BEGIN:VEVENT
DTSTART;VALUE=DATE:20260205
DTEND;VALUE=DATE:20260206
DTSTAMP:20260423T063810
CREATED:20250104T172734Z
LAST-MODIFIED:20251123T131258Z
UID:10001561-1770249600-1770335999@www.ncrr.net
SUMMARY:building cleaning
DESCRIPTION:Except when being cleaned\, which takes roughly half hour\, pistol range is open.
URL:https://www.ncrr.net/event/building-cleaning/2026-02-05/
CATEGORIES:Range Partially Open
END:VEVENT
BEGIN:VEVENT
DTSTART;TZID=America/New_York:20260205T190000
DTEND;TZID=America/New_York:20260205T210000
DTSTAMP:20260423T063810
CREATED:20250104T173233Z
LAST-MODIFIED:20251123T125718Z
UID:10001619-1770318000-1770325200@www.ncrr.net
SUMMARY:general business meeting
DESCRIPTION:Public is welcome to attend!\nStay informed and get updates about club happenings.
URL:https://www.ncrr.net/event/gbm/2026-02-05/
CATEGORIES:Range Partially Open
END:VEVENT
BEGIN:VEVENT
DTSTART;VALUE=DATE:20260212
DTEND;VALUE=DATE:20260213
DTSTAMP:20260423T063810
CREATED:20250104T172734Z
LAST-MODIFIED:20251123T131258Z
UID:10001562-1770854400-1770940799@www.ncrr.net
SUMMARY:building cleaning
DESCRIPTION:Except when being cleaned\, which takes roughly half hour\, pistol range is open.
URL:https://www.ncrr.net/event/building-cleaning/2026-02-12/
CATEGORIES:Range Partially Open
END:VEVENT
BEGIN:VEVENT
DTSTART;VALUE=DATE:20260219
DTEND;VALUE=DATE:20260220
DTSTAMP:20260423T063810
CREATED:20250104T172734Z
LAST-MODIFIED:20251123T131258Z
UID:10001563-1771459200-1771545599@www.ncrr.net
SUMMARY:building cleaning
DESCRIPTION:Except when being cleaned\, which takes roughly half hour\, pistol range is open.
URL:https://www.ncrr.net/event/building-cleaning/2026-02-19/
CATEGORIES:Range Partially Open
END:VEVENT
BEGIN:VEVENT
DTSTART;VALUE=DATE:20260226
DTEND;VALUE=DATE:20260227
DTSTAMP:20260423T063810
CREATED:20250104T172734Z
LAST-MODIFIED:20251123T131258Z
UID:10001564-1772064000-1772150399@www.ncrr.net
SUMMARY:building cleaning
DESCRIPTION:Except when being cleaned\, which takes roughly half hour\, pistol range is open.
URL:https://www.ncrr.net/event/building-cleaning/2026-02-26/
CATEGORIES:Range Partially Open
END:VEVENT
END:VCALENDAR